BEGIN:VCALENDAR
VERSION:2.0
PRODID:-//Squarespace Inc/Squarespace 6//v6//EN
BEGIN:VEVENT
UID:57c39d0c1b631b53beee9f11@squarespace.com
DTSTAMP:20160829T022600Z
DTSTART:20160904T200000Z
DTEND:20160905T220000Z
SUMMARY:Sunday Technique Sessions
END:VEVENT
END:VCALENDAR
