BEGIN:VCALENDAR
VERSION:2.0
PRODID:-//Squarespace Inc/Squarespace 6//v6//EN
BEGIN:VEVENT
UID:57c39b10b8a79b45b425f0be@squarespace.com
DTSTAMP:20160829T022140Z
DTSTART:20160903T130000Z
DTEND:20160903T160000Z
SUMMARY:NSW State Training Session
END:VEVENT
END:VCALENDAR
