BEGIN:VCALENDAR
VERSION:2.0
PRODID:-//Squarespace Inc/Squarespace 6//v6//EN
BEGIN:VEVENT
UID:57c39d60ebbd1ac6f25c247f@squarespace.com
DTSTAMP:20160829T024845Z
DTSTART:20160910T130000Z
DTEND:20160911T220000Z
SUMMARY:2016 NSW State Boulder Championships
END:VEVENT
END:VCALENDAR
