BEGIN:VCALENDAR
VERSION:2.0
PRODID:-//Squarespace Inc/Squarespace 6//v6//EN
BEGIN:VEVENT
UID:578f666c8419c20d6acb1a01@squarespace.com
DTSTAMP:20160720T115458Z
DTSTART:20160807T200000Z
DTEND:20160808T220000Z
SUMMARY:Sunday Technique Sessions
END:VEVENT
END:VCALENDAR
