BEGIN:VCALENDAR
VERSION:2.0
PRODID:-//Squarespace Inc/Squarespace 6//v6//EN
BEGIN:VEVENT
UID:57c39c6f6a4963efc2c97d4d@squarespace.com
DTSTAMP:20160829T022350Z
DTSTART:20160830T230000Z
DTEND:20160831T010000Z
SUMMARY:Yoga @ the Bloc
END:VEVENT
END:VCALENDAR
