BEGIN:VCALENDAR
VERSION:2.0
PRODID:-//Squarespace Inc/Squarespace 6//v6//EN
BEGIN:VEVENT
UID:57c39ccf725e258e4bea6ff0@squarespace.com
DTSTAMP:20160829T022450Z
DTSTART:20160829T230000Z
DTEND:20160830T000000Z
SUMMARY:Strength & Conditioning
END:VEVENT
END:VCALENDAR
