BEGIN:VCALENDAR
VERSION:2.0
PRODID:-//Squarespace Inc/Squarespace 6//v6//EN
BEGIN:VEVENT
UID:578f62cb5016e1882f3035a5@squarespace.com
DTSTAMP:20160720T120215Z
DTSTART:20160802T230000Z
DTEND:20160803T000000Z
SUMMARY:Yoga at the Bloc
END:VEVENT
END:VCALENDAR
