BEGIN:VCALENDAR
VERSION:2.0
PRODID:-//Squarespace Inc/Squarespace 6//v6//EN
BEGIN:VEVENT
UID:578f65c3440243f06f65b9d5@squarespace.com
DTSTAMP:20160720T115204Z
DTSTART:20160802T200000Z
DTEND:20160803T213000Z
SUMMARY:Kids Club
END:VEVENT
END:VCALENDAR
