BEGIN:VCALENDAR
VERSION:2.0
PRODID:-//Squarespace Inc/Squarespace 6//v6//EN
BEGIN:VEVENT
UID:578f63166a4963e0422099b3@squarespace.com
DTSTAMP:20160720T114045Z
DTSTART:20160801T230000Z
DTEND:20160802T000000Z
SUMMARY:Strength & Conditioning
END:VEVENT
END:VCALENDAR
