BEGIN:VCALENDAR
VERSION:2.0
PRODID:-//Squarespace Inc/Squarespace 6//v6//EN
BEGIN:VEVENT
UID:578f66df9de4bb0982e04ca1@squarespace.com
DTSTAMP:20160720T115643Z
DTSTART:20160731T200000Z
DTEND:20160801T220000Z
SUMMARY:Sunday Technique Sessions
END:VEVENT
END:VCALENDAR
