BEGIN:VCALENDAR
VERSION:2.0
PRODID:-//Squarespace Inc/Squarespace 6//v6//EN
BEGIN:VEVENT
UID:578f4b8ad2b857959f67ea03@squarespace.com
DTSTAMP:20160720T120103Z
DTSTART:20160726T230000Z
DTEND:20160727T000000Z
SUMMARY:Yoga at the Bloc
END:VEVENT
END:VCALENDAR
