BEGIN:VCALENDAR
VERSION:2.0
PRODID:-//Squarespace Inc/Squarespace 6//v6//EN
BEGIN:VEVENT
UID:578f64d1e6f2e1fe063ea510@squarespace.com
DTSTAMP:20160720T120313Z
DTSTART:20160726T200000Z
DTEND:20160726T213000Z
SUMMARY:Kids Club
END:VEVENT
END:VCALENDAR
