BEGIN:VCALENDAR
VERSION:2.0
PRODID:-//Squarespace Inc/Squarespace 6//v6//EN
BEGIN:VEVENT
UID:578f49b715d5db7814d07b70@squarespace.com
DTSTAMP:20160720T095622Z
DTSTART:20160725T230000Z
DTEND:20160726T000000Z
SUMMARY:Strength & Conditioning
GEO:-33.797939;151.004195
LOCATION:Bloc Climbing\, 2/23 Castle Street\, North Paramatta\, Australia
END:VEVENT
END:VCALENDAR
