BEGIN:VCALENDAR
VERSION:2.0
PRODID:-//Squarespace Inc/Squarespace 6//v6//EN
BEGIN:VEVENT
UID:578f65f2ff7c50ffc7ff4d79@squarespace.com
DTSTAMP:20160720T115919Z
DTSTART:20160724T200000Z
DTEND:20160724T220000Z
SUMMARY:Sunday Technique Sessions
END:VEVENT
END:VCALENDAR
