BEGIN:VCALENDAR
VERSION:2.0
PRODID:-//Squarespace Inc/Squarespace 6//v6//EN
BEGIN:VEVENT
UID:57354db38259b5bc9570a4a0@squarespace.com
DTSTAMP:20160528T075410Z
DTSTART:20160625T160000Z
DTEND:20160626T220000Z
SUMMARY:Bloc Contest 2016
END:VEVENT
END:VCALENDAR
