BEGIN:VCALENDAR
VERSION:2.0
PRODID:-//Squarespace Inc/Squarespace 6//v6//EN
BEGIN:VEVENT
UID:572596423c44d8676afc0ef8@squarespace.com
DTSTAMP:20160501T053953Z
DTSTART:20160504T040000Z
DTEND:20160504T045959Z
SUMMARY:Panel reset - Panel E
END:VEVENT
END:VCALENDAR
