BEGIN:VCALENDAR
VERSION:2.0
PRODID:-//Squarespace Inc/Squarespace 6//v6//EN
BEGIN:VEVENT
UID:57273c6837013b4a807b59aa@squarespace.com
DTSTAMP:20160502T114005Z
DTSTART:20160503T120000Z
DTEND:20160503T125959Z
SUMMARY:Kids Club - fees due
END:VEVENT
END:VCALENDAR
