BEGIN:VCALENDAR
VERSION:2.0
PRODID:-//Squarespace Inc/Squarespace 6//v6//EN
BEGIN:VEVENT
UID:5725960127d4bd23efd5192c@squarespace.com
DTSTAMP:20160502T114046Z
DTSTART:20160502T230000Z
DTEND:20160503T010000Z
SUMMARY:Bouldering for beginners
END:VEVENT
END:VCALENDAR
