BEGIN:VCALENDAR
VERSION:2.0
PRODID:-//Squarespace Inc/Squarespace 6//v6//EN
BEGIN:VEVENT
UID:57f1a54403596e0c057f4fcb@squarespace.com
DTSTAMP:20161003T002508Z
DTSTART:20161009T200000Z
DTEND:20161009T210000Z
SUMMARY:Sunday Technique Sessions
END:VEVENT
END:VCALENDAR
