BEGIN:VCALENDAR
VERSION:2.0
PRODID:-//Squarespace Inc/Squarespace 6//v6//EN
BEGIN:VEVENT
UID:57f1a5bde4fcb5606cc8173b@squarespace.com
DTSTAMP:20161003T002738Z
DTSTART:20161006T230000Z
DTEND:20161007T000000Z
SUMMARY:Yoga @ the Bloc
END:VEVENT
END:VCALENDAR
