BEGIN:VCALENDAR
VERSION:2.0
PRODID:-//Squarespace Inc/Squarespace 6//v6//EN
BEGIN:VEVENT
UID:57f1a57f03596e0c057f51b8@squarespace.com
DTSTAMP:20161003T002624Z
DTSTART:20161004T230000Z
DTEND:20161005T010000Z
SUMMARY:Yoga @ the Bloc
END:VEVENT
END:VCALENDAR
