BEGIN:VCALENDAR
VERSION:2.0
PRODID:-//Squarespace Inc/Squarespace 6//v6//EN
BEGIN:VEVENT
UID:57f1a60f8419c2912d1433e6@squarespace.com
DTSTAMP:20161003T002903Z
DTSTART:20161010T230000Z
DTEND:20161011T000000Z
SUMMARY:Strength & Conditioning
END:VEVENT
END:VCALENDAR
